BEGIN:VCALENDAR
VERSION:2.0
PRODID:-//ChamberMaster//Event Calendar 2.0//EN
METHOD:PUBLISH
X-PUBLISHED-TTL:P3D
REFRESH-INTERVAL:P3D
CALSCALE:GREGORIAN
BEGIN:VEVENT
DTSTART:20241018T004500Z
DTEND:20241018T013000Z
X-MICROSOFT-CDO-ALLDAYEVENT:FALSE
SUMMARY:5 Elements Dance
DESCRIPTION:A Perennial New & Full Moon Ritual\n\nOn a Thursday\, near the new moon in Spring and the full moon in Fall\, put on our dancing shoes and join Perennial Yoga to dance outdoors in their semi-secluded garden space next to a wide open prairie. Move your body and breath under the setting sun and rising moon\, among the trees\, and spurred on by fire. There are no specific moves or a "right" way to do it. Everyone moves in their own way. It's enlivening\, joyful and centering and you'll leave feeling a kindred connection to yourself\, other humans and the natural world.\n\nCost: $15 | Included in your membership
X-ALT-DESC;FMTTYPE=text/html:<p style="box-sizing: border-box\; margin: 0px 0px 1rem\; color: rgb(85\, 85\, 85)\; font-family: Montserrat\, sans-serif\; font-size: 16px\;"><span style="box-sizing: border-box\; color: rgb(5\, 5\, 5)\; font-family: &quot\;Segoe UI Historic&quot\;\, &quot\;Segoe UI&quot\;\, Helvetica\, Arial\, sans-serif\; font-size: 15px\;">A Perennial New &amp\; Full Moon Ritual</span></p>\n\n<div class="x11i5rnm xat24cr x1mh8g0r x1vvkbs xtlvy1s" style="box-sizing: border-box\; margin: 0.5em 0px 0px\; overflow-wrap: break-word\; font-family: &quot\;Segoe UI Historic&quot\;\, &quot\;Segoe UI&quot\;\, Helvetica\, Arial\, sans-serif\; color: rgb(5\, 5\, 5)\; font-size: 15px\;">On a Thursday\, near the new moon in Spring and the full moon in Fall\, put on our dancing shoes and join Perennial Yoga to&nbsp\;dance outdoors in their semi-secluded garden space next to a wide open prairie. Move your body and breath under the setting sun and rising moon\, among the trees\, and spurred on by fire. There are no specific moves or a &ldquo\;right&rdquo\; way to do it. Everyone moves in their own way. It&#39\;s enlivening\, joyful and centering and you&#39\;ll leave feeling a kindred connection to yourself\, other humans and the natural world.</div>\n\n<div class="x11i5rnm xat24cr x1mh8g0r x1vvkbs xtlvy1s" style="box-sizing: border-box\; outline: 0px\; margin: 0.5em 0px 0px\; overflow-wrap: break-word\; font-family: &quot\;Segoe UI Historic&quot\;\, &quot\;Segoe UI&quot\;\, Helvetica\, Arial\, sans-serif\; color: rgb(5\, 5\, 5)\; font-size: 15px\;">Cost: $15 | Included in your membership</div>\n
LOCATION:Perennial Yoga 5500 E Cheryl Pkwy\, Ste 101A\, Fitchburg\, WI
UID:e.1970.6193
SEQUENCE:3
DTSTAMP:20260420T001431Z
URL:http://fitchburgchamber.chambermaster.com/events/details/5-elements-dance-6193
END:VEVENT

END:VCALENDAR
